BEGIN:VCALENDAR
VERSION:2.0
PRODID:-//Christ Restoration Church - ECPv4.6.5//NONSGML v1.0//EN
CALSCALE:GREGORIAN
METHOD:PUBLISH
X-WR-CALNAME:Christ Restoration Church
X-ORIGINAL-URL:http://christrestorationchurch.net/home
X-WR-CALDESC:Events for Christ Restoration Church
BEGIN:VEVENT
DTSTART;TZID=America/New_York:20190406T090000
DTEND;TZID=America/New_York:20190406T160000
DTSTAMP:20260424T162032
CREATED:20190110T185354Z
LAST-MODIFIED:20190110T185354Z
UID:4132-1554541200-1554566400@christrestorationchurch.net
SUMMARY:CCEF New England Conference
DESCRIPTION:The CCEF New England Conference will take place on Saturday\, April 6\, 2019 at Wellspring Worship Center. This year’s conference is entitled “Tried and True: Growing in Marriage’s Ordinary Trials.”  For more information or to register\, click here. \n
URL:http://christrestorationchurch.net/home/event/ccef-new-england-conference/
LOCATION:407 N. Main Street\, West Lebanon\, NH\, 03784\, United States
GEO:43.685873;-72.293987
X-APPLE-STRUCTURED-LOCATION;VALUE=URI;X-ADDRESS=407 N. Main Street West Lebanon NH 03784 United States;X-APPLE-RADIUS=500;X-TITLE=407 N. Main Street:geo:-72.293987,43.685873
CATEGORIES:Conferences/ Retreats
END:VEVENT
END:VCALENDAR