BEGIN:VCALENDAR
VERSION:2.0
PRODID:-//Christ Restoration Church - ECPv4.6.5//NONSGML v1.0//EN
CALSCALE:GREGORIAN
METHOD:PUBLISH
X-WR-CALNAME:Christ Restoration Church
X-ORIGINAL-URL:http://christrestorationchurch.net/home
X-WR-CALDESC:Events for Christ Restoration Church
BEGIN:VEVENT
DTSTART;TZID=America/New_York:20251224T170000
DTEND;TZID=America/New_York:20251224T180000
DTSTAMP:20260424T103252
CREATED:20251201T153412Z
LAST-MODIFIED:20251201T153412Z
UID:10682-1766595600-1766599200@christrestorationchurch.net
SUMMARY:Christmas Eve Service
DESCRIPTION:Join us on December 24th at 5:00 pm for a Christmas Eve Candlelight Service in Clement’s Hall in The Ivey Science Center at Colby-Sawyer College. \nAll are welcome to join us for this special service! \nMap & Directions \n\nFor a map & directions\, click here.\nClick here for a complete campus map.\n\nQuestions? \nContact \n\nSorry\, you need Javascript on to email me. \n
URL:http://christrestorationchurch.net/home/event/christmas-eve-service/
CATEGORIES:Worship Sevice
ATTACH;FMTTYPE=image/jpeg:http://christrestorationchurch.net/home/wp-content/uploads/2022/12/NL-Advent.jpg
END:VEVENT
END:VCALENDAR