BEGIN:VCALENDAR
VERSION:2.0
PRODID:-//Christ Restoration Church - ECPv4.6.5//NONSGML v1.0//EN
CALSCALE:GREGORIAN
METHOD:PUBLISH
X-WR-CALNAME:Christ Restoration Church
X-ORIGINAL-URL:http://christrestorationchurch.net/home
X-WR-CALDESC:Events for Christ Restoration Church
BEGIN:VEVENT
DTSTART;VALUE=DATE:20200315
DTEND;VALUE=DATE:20200316
DTSTAMP:20260425T145250
CREATED:20200320T160326Z
LAST-MODIFIED:20200320T160326Z
UID:5066-1584230400-1584316799@christrestorationchurch.net
SUMMARY:Community Group Week - CANCELED
DESCRIPTION:Sunday’s worship service and all in-person events for the week of March 15th\, March 22nd\, and March 29th are canceled. This cancellation is an effort to join with our community in the steps it is taking to prevent the spread of COVID-19. \n
URL:http://christrestorationchurch.net/home/event/community-group-week-canceled/2020-03-15/
CATEGORIES:Meetings/ Seminars
END:VEVENT
END:VCALENDAR