BEGIN:VCALENDAR
VERSION:2.0
PRODID:-//Christ Restoration Church - ECPv4.6.5//NONSGML v1.0//EN
CALSCALE:GREGORIAN
METHOD:PUBLISH
X-WR-CALNAME:Christ Restoration Church
X-ORIGINAL-URL:http://christrestorationchurch.net/home
X-WR-CALDESC:Events for Christ Restoration Church
BEGIN:VEVENT
DTSTART;TZID=America/New_York:20181230T113000
DTEND;TZID=America/New_York:20181230T123000
DTSTAMP:20260425T102742
CREATED:20181116T165612Z
LAST-MODIFIED:20181116T165612Z
UID:4037-1546169400-1546173000@christrestorationchurch.net
SUMMARY:Community Prayer
DESCRIPTION:Join us\, immediately following the worship service for a time of prayer! \n
URL:http://christrestorationchurch.net/home/event/community-prayer-5/
LOCATION:Colby Sawyer College\, New London\, NH\, 03257\, United States
GEO:43.412062;-71.978033
X-APPLE-STRUCTURED-LOCATION;VALUE=URI;X-ADDRESS=Colby Sawyer College New London NH 03257 United States;X-APPLE-RADIUS=500;X-TITLE=Colby Sawyer College:geo:-71.978033,43.412062
CATEGORIES:Prayer Meetings
END:VEVENT
END:VCALENDAR