BEGIN:VCALENDAR
VERSION:2.0
PRODID:-//Christ Restoration Church - ECPv4.6.5//NONSGML v1.0//EN
CALSCALE:GREGORIAN
METHOD:PUBLISH
X-WR-CALNAME:Christ Restoration Church
X-ORIGINAL-URL:http://christrestorationchurch.net/home
X-WR-CALDESC:Events for Christ Restoration Church
BEGIN:VEVENT
DTSTART;VALUE=DATE:20240921
DTEND;VALUE=DATE:20240922
DTSTAMP:20260421T085623
CREATED:20240807T132908Z
LAST-MODIFIED:20240807T132908Z
UID:9288-1726876800-1726963199@christrestorationchurch.net
SUMMARY:Fall Women's Retreat
DESCRIPTION:All women are invited to join us for a daytime Fall Retreat on Saturday\, September 21st. More details to come! \n
URL:http://christrestorationchurch.net/home/event/fall-womens-retreat/
CATEGORIES:Conferences/ Retreats,Women's Fellowship
END:VEVENT
END:VCALENDAR