BEGIN:VCALENDAR
VERSION:2.0
PRODID:-//Christ Restoration Church - ECPv4.6.5//NONSGML v1.0//EN
CALSCALE:GREGORIAN
METHOD:PUBLISH
X-WR-CALNAME:Christ Restoration Church
X-ORIGINAL-URL:http://christrestorationchurch.net/home
X-WR-CALDESC:Events for Christ Restoration Church
BEGIN:VEVENT
DTSTART;TZID=America/New_York:20250418T190000
DTEND;TZID=America/New_York:20250418T200000
DTSTAMP:20260420T122248
CREATED:20250407T140033Z
LAST-MODIFIED:20250407T140033Z
UID:9960-1745002800-1745006400@christrestorationchurch.net
SUMMARY:Good Friday Service
DESCRIPTION:All are welcome to join The Quechee Church for their Good Friday Service taking place on Friday\, April 18th at 7:00 pm. The Quechee Church is located at 1905 Quechee Main Street\, Quechee\, VT. Additional parking is available across the street off of Village Green Circle. Visit The Quechee Church website for full service details click here. \n
URL:http://christrestorationchurch.net/home/event/good-friday-service/
CATEGORIES:Worship Sevice
END:VEVENT
END:VCALENDAR