BEGIN:VCALENDAR
VERSION:2.0
PRODID:-//Christ Restoration Church - ECPv4.6.5//NONSGML v1.0//EN
CALSCALE:GREGORIAN
METHOD:PUBLISH
X-WR-CALNAME:Christ Restoration Church
X-ORIGINAL-URL:http://christrestorationchurch.net/home
X-WR-CALDESC:Events for Christ Restoration Church
BEGIN:VEVENT
DTSTART;TZID=America/New_York:20200131T173000
DTEND;TZID=America/New_York:20200201T150000
DTSTAMP:20260425T113711
CREATED:20191119T153703Z
LAST-MODIFIED:20191223T151635Z
UID:4735-1580491800-1580569200@christrestorationchurch.net
SUMMARY:Men's Winter Conference
DESCRIPTION:Relationships 101: Working on Our Most Important Work\nRelationships require a nuance and vulnerability not often noted in men. Culturally\, even the idea of “relating” can have a connotation that is considered non- or even anti-masculine. But here’s the reality: Relationships require courage and competence. We are dying for genuine relational connection and so are the one’s in our lives who look to us for love. \nJoin as we consider what it takes to connect with others particularly the ones that matter most in our lives. \nJoin us for 2020 Men’s Winter Conference on January 31st to February 1st at Singing Hills Christian Conference Center in Plainfield\, New Hampshire.  There will be snacks\, challenging talks & good fellowship. College students are welcome and encouraged to attend. \n\nRegular Registration is $105 by January 26th \nRegister Online \nIf you are registering using a mobile device\, click here. \nIf you would like to pay online\, you may do so using a direct-debit from your checking account you may do so by clicking the button below. If you would prefer\, you may also mail a check to the church office (PO Box 5523\, Hanover\, NH 03755) or use the offering box on Sunday. If you use either of these options\, please write “Men’s Conference” on the memo of your check and/or giving envelope. \nPay Online \nNote: If using a GPS unit to get directions\, enter 351 Stage Road\, Plainfield\, NH 03781. View a map here. \nWhat Should You Bring\n\nBible\, Notebook\, Pen\nBath Towel & Toiletries\nComfortable Clothes\nSleeping Bag & Pillow\nWinter/Outdoor Clothes\nA friend or two…\n\nQuestions? Contact //  \nSorry\, you need Javascript on to email me. \n\n\n\n
URL:http://christrestorationchurch.net/home/event/mens-winter-conference/
LOCATION:351 Stage Road\, Plainfield\, NH\, United States
GEO:43.5321164;-72.2999279
X-APPLE-STRUCTURED-LOCATION;VALUE=URI;X-ADDRESS=351 Stage Road Plainfield NH United States;X-APPLE-RADIUS=500;X-TITLE=351 Stage Road:geo:-72.2999279,43.5321164
CATEGORIES:Conferences/ Retreats,Men's Fellowship
ATTACH;FMTTYPE=image/jpeg:http://christrestorationchurch.net/home/wp-content/uploads/2019/11/Mens-Retreat-2019-small.jpeg
ORGANIZER;CN="Chris%20Audino":MAILTO:chris.audino@christredeemerchurch.org
END:VEVENT
END:VCALENDAR