BEGIN:VCALENDAR
VERSION:2.0
PRODID:-//Christ Restoration Church - ECPv4.6.5//NONSGML v1.0//EN
CALSCALE:GREGORIAN
METHOD:PUBLISH
X-WR-CALNAME:Christ Restoration Church
X-ORIGINAL-URL:http://christrestorationchurch.net/home
X-WR-CALDESC:Events for Christ Restoration Church
BEGIN:VEVENT
DTSTART;TZID=America/New_York:20180311T130000
DTEND;TZID=America/New_York:20180311T170000
DTSTAMP:20260423T152621
CREATED:20180201T203208Z
LAST-MODIFIED:20180309T183604Z
UID:3264-1520773200-1520787600@christrestorationchurch.net
SUMMARY:Parenting with Confidence Conference
DESCRIPTION:Join us on Sunday\, March 11th from 1:00 to 5:00 pm at The Quechee Church for “Parenting with Confidence” with Pastor and speaker Chap Bettis. \nDuring this conference\, Chap Bettis of the Apollos Project will address issues concerning children of all ages\, concluding with a workshop session on the teen years. Parents with children of all ages are encouraged to attend! \nRegistration is $25/person or $35/couple\, with a copy of The Disciple-Making Parent by Chap Bettis with each registration. \nRegister Online \nIf using a mobile device to register\, click here. \nYou are welcome to pay for your registration at the event\, however\, if you would prefer\,  you may also pay online using a direct-debit from your checking account below. (Please note\, the cost is defaulted to $25 for an individual registration. If you are registering as a couple\, please update the amount to $35 before submitting your payment). \nPay Online \n\nSeminar Schedule \nFor the first part of the seminar\, Chap will be focusing on parenting children through the lens of Ephesians 6:1-4. He will conclude the seminar with a workshop on applying these principles to the teen years.\n\n\n1 pm – “The Biblical Work of Parenting”\n2 pm – “Training & Instruction”\n3 pm – “Discipline”\n4 pm – “The Teen Years”\n\n\n
URL:http://christrestorationchurch.net/home/event/parenting-with-confidence/
CATEGORIES:Meetings/ Seminars
ATTACH;FMTTYPE=image/jpeg:http://christrestorationchurch.net/home/wp-content/uploads/2018/02/Parenting-with-Confidence.jpg
END:VEVENT
END:VCALENDAR