BEGIN:VCALENDAR
VERSION:2.0
PRODID:-//Christ Restoration Church - ECPv4.6.5//NONSGML v1.0//EN
CALSCALE:GREGORIAN
METHOD:PUBLISH
X-WR-CALNAME:Christ Restoration Church
X-ORIGINAL-URL:http://christrestorationchurch.net/home
X-WR-CALDESC:Events for Christ Restoration Church
BEGIN:VEVENT
DTSTART;VALUE=DATE:20180805
DTEND;VALUE=DATE:20180811
DTSTAMP:20260423T164420
CREATED:20180213T202835Z
LAST-MODIFIED:20190212T200356Z
UID:3286-1533427200-1533945599@christrestorationchurch.net
SUMMARY:Summer Youth Retreat
DESCRIPTION:Our annual Summer Youth Retreat will be Sunday August 5th through Friday\, August 10th\, 2018 in Ocean City\, New Jersey. Students entering 7th through 12th grade are welcome! Friends are welcome too! \nThe retreat is designed to be a well-chaperoned time of friendship\, fun and learning. This year’s summer youth retreat will be at Kull Youth Center in Ocean City\, New Jersey. There will be daily small group bible studies (no prior knowledge needed)\, nightly programs\, and lots of time at the beach and boardwalk. \nRetreat Theme: The Power of Freedom\nAs inhabitants of “the land of the free” we enjoy a great amount of freedoms. We’re free from the tyranny of dictators within and foreign oppression from abroad. Yet the heart of freedom is freedom in our hearts. As modern day thinkers\, the word freedom is usually associated with casting off external constraints\, but sometimes our biggest constraints are from within. Does the Bible have anything to say about freedom? Can a message about an event that happened more than 2\,000 years ago speak to the issues of today? Join us for a time of learning and fun in Ocean City\, NJ as we explore “The Power of Freedom”. \nRead about our previous summer retreats here \nFinal Registration is $300 by July 31st \nOnline Registration \nIf using a mobile device to register\, click here. \nSign Release Form \nIf you would like to pay online\, you may do so using a direct-debit from your checking account (see button below). If you would prefer\, you may also mail a check to the church office (PO Box 5523\, Hanover\, NH 03755) or use the offering box on Sunday. If you use either of these options\, please write “Youth Retreat” on the memo of your check and/or giving envelope. \nPay Online \nQuestions?\nContact //  \nSorry\, you need Javascript on to email me. \nWhat to Bring\n\nYour Friends!!!!\nSpending money for souvenirs and optional amusements/food on the boardwalk. (Breakfast\, lunch and dinner will be provided Sunday dinner through Thursday as a part of the registration fee.)\nPacked lunch or lunch money for the trip down on Sunday\nBible\nSpiral Notebook\nPens (2-4)\nReusable Water bottle\nSleeping Bag/Pillow\nSwimsuit\nBeach Towel\nToiletries\nBath Towel\nComfortable clothes\nSweatshirt\nWarmer Clothes for cooler evenings on the boardwalk\nSunscreen\nFlashlight\nSneakers for Sports\nMedication if Needed\n$25 for water park\, $5 mini-golf (both optional)\n\n
URL:http://christrestorationchurch.net/home/event/summer-youth-retreat-2018/
LOCATION:Ocean City\, NJ\, United States
GEO:39.2776156;-74.5746001
CATEGORIES:Children's Events,Conferences/ Retreats
ATTACH;FMTTYPE=image/jpeg:http://christrestorationchurch.net/home/wp-content/uploads/2017/06/IMG_1601-copy1.jpg
END:VEVENT
END:VCALENDAR