BEGIN:VCALENDAR
VERSION:2.0
PRODID:-//Christ Restoration Church - ECPv4.6.5//NONSGML v1.0//EN
CALSCALE:GREGORIAN
METHOD:PUBLISH
X-WR-CALNAME:Christ Restoration Church
X-ORIGINAL-URL:http://christrestorationchurch.net/home
X-WR-CALDESC:Events for Christ Restoration Church
BEGIN:VEVENT
DTSTART;VALUE=DATE:20250627
DTEND;VALUE=DATE:20250703
DTSTAMP:20260420T103952
CREATED:20250304T145736Z
LAST-MODIFIED:20260226T182926Z
UID:9885-1750982400-1751500799@christrestorationchurch.net
SUMMARY:Summer Youth Retreat
DESCRIPTION:Our annual Summer Youth Retreat will be Friday\, June 27th to Wednesday\, July 2nd in Ocean City\, New Jersey. Students entering 8th through 12th grade are welcome! Friends are welcome too! \nThe retreat is designed to be a well-chaperoned time of friendship\, fun and learning. This year’s summer youth retreat will be at Kull Youth Center in Ocean City\, New Jersey. There will be daily programs\, small group bible studies (no prior knowledge needed)\, and lots of time at the beach and boardwalk. \nDetails & Registration \n
URL:http://christrestorationchurch.net/home/event/summer-youth-retreat-2025/
CATEGORIES:Conferences/ Retreats,Youth Ministry
ATTACH;FMTTYPE=image/jpeg:http://christrestorationchurch.net/home/wp-content/uploads/2017/06/IMG_1601-copy1.jpg
END:VEVENT
END:VCALENDAR