BEGIN:VCALENDAR
VERSION:2.0
PRODID:-//Christ Restoration Church - ECPv4.6.5//NONSGML v1.0//EN
CALSCALE:GREGORIAN
METHOD:PUBLISH
X-WR-CALNAME:Christ Restoration Church
X-ORIGINAL-URL:http://christrestorationchurch.net/home
X-WR-CALDESC:Events for Christ Restoration Church
BEGIN:VEVENT
DTSTART;TZID=America/New_York:20190409T183000
DTEND;TZID=America/New_York:20190409T200000
DTSTAMP:20260424T161602
CREATED:20190402T163552Z
LAST-MODIFIED:20190404T150857Z
UID:4303-1554834600-1554840000@christrestorationchurch.net
SUMMARY:Women's Bible Study on Jonah
DESCRIPTION:All women are invited to join Rosa Lee Richards in studying the book of Jonah. Daytime study meeting bi-weekly on Mondays from 10 to 11:30am (4/15\, 4/29\, 5/13) locations vary. Evening study meeting bi-weekly on Tuesdays 6:30 to 8pm (4/9\, 4/23\, 5/7\, 5/21) at Joyce Smith’s home. Questions? Please contact Leah Cooper. \n
URL:http://christrestorationchurch.net/home/event/womens-bible-study-on-jonah-2/2019-04-09/
CATEGORIES:Women's Fellowship
END:VEVENT
END:VCALENDAR