BEGIN:VCALENDAR
VERSION:2.0
PRODID:-//Christ Restoration Church - ECPv4.6.5//NONSGML v1.0//EN
CALSCALE:GREGORIAN
METHOD:PUBLISH
X-WR-CALNAME:Christ Restoration Church
X-ORIGINAL-URL:http://christrestorationchurch.net/home
X-WR-CALDESC:Events for Christ Restoration Church
BEGIN:VEVENT
DTSTART;TZID=America/New_York:20200107T190000
DTEND;TZID=America/New_York:20200107T203000
DTSTAMP:20260425T132503
CREATED:20191230T191837Z
LAST-MODIFIED:20200320T154942Z
UID:4846-1578423600-1578429000@christrestorationchurch.net
SUMMARY:Women's Bible Study
DESCRIPTION:All women are welcome to join us for a new study on Jen Wilkin’s book Women of the Word: How to Study the Bible with Both Our Hearts and Our Minds. We’ll be meeting at Joyce Smith’s home roughly three Tuesday evenings a month from 7 to 8:30pm.  You can get a copy of the book from Leah on Sunday 12/29\, or 1/5\, or at our first gathering on 1/7.  The cost for the book is just $4. \n
URL:http://christrestorationchurch.net/home/event/womens-bible-study-winter-2020/2020-01-07/
CATEGORIES:Women's Fellowship
END:VEVENT
END:VCALENDAR