BEGIN:VCALENDAR
VERSION:2.0
PRODID:-//Christ Restoration Church - ECPv4.6.5//NONSGML v1.0//EN
CALSCALE:GREGORIAN
METHOD:PUBLISH
X-WR-CALNAME:Christ Restoration Church
X-ORIGINAL-URL:http://christrestorationchurch.net/home
X-WR-CALDESC:Events for Christ Restoration Church
BEGIN:VEVENT
DTSTART;TZID=America/New_York:20210213T100000
DTEND;TZID=America/New_York:20210213T160000
DTSTAMP:20260424T085601
CREATED:20210118T180158Z
LAST-MODIFIED:20210118T180225Z
UID:6235-1613210400-1613232000@christrestorationchurch.net
SUMMARY:Youth Group Winter Shindig
DESCRIPTION:Join us for CRC’s Winter Youth Retreat on Saturday\, February 13th from 10am to 4pm. Students in 6th to 12th grades are welcome! \nAside from our teaching time and lunch\, we will spend the day outdoors. \nMasks and social distancing will be required. \nPlease register using the form below. If you are registering using a mobile device\, this registration link will have a friendlier view than the one embedded below. \nQuestions? Contact \n\nSorry\, you need Javascript on to email me. \nSorry\, you need Javascript on to email me. \n
URL:http://christrestorationchurch.net/home/event/youth-group-winter-shindig/
LOCATION:351 Stage Road\, Plainfield\, NH\, United States
GEO:43.5321164;-72.2999279
X-APPLE-STRUCTURED-LOCATION;VALUE=URI;X-ADDRESS=351 Stage Road Plainfield NH United States;X-APPLE-RADIUS=500;X-TITLE=351 Stage Road:geo:-72.2999279,43.5321164
CATEGORIES:Youth Ministry
END:VEVENT
END:VCALENDAR